BEGIN:VCALENDAR
VERSION:2.0
PRODID:icalendar-ruby
CALSCALE:GREGORIAN
METHOD:PUBLISH
BEGIN:VEVENT
DTSTAMP:20260421T005353Z
UID:2-1372@nlbcwalker.com
DTSTART:20260816T130000Z
DTEND:20260816T140000Z
CLASS:PUBLIC
CREATED:20260413T105539
DESCRIPTION:We need God's revival! \nCome enjoy a hot breakfast followed b
 y an earnest prayer time. \n 
LAST-MODIFIED:20260413T105539
LOCATION:
SUMMARY:Prayer Breakfast
URL;VALUE=URI:https://nlbcwalker.com/events/prayer-breakfast/2026-08-16
ATTACH;FILENAME=blog-IntercessoryPrayer.jpg;FMTTYPE=image/jpeg:https://dq5p
 wpg1q8ru0.cloudfront.net/2021/01/15/04/56/44/4598fd18-31e1-401c-a622-7f026
 59797e6/blog-IntercessoryPrayer.jpg
END:VEVENT
END:VCALENDAR
